BEGIN:VCALENDAR
VERSION:2.0
PRODID:-//Biologen Herdla - ECPv6.15.18//NONSGML v1.0//EN
CALSCALE:GREGORIAN
METHOD:PUBLISH
X-WR-CALNAME:Biologen Herdla
X-ORIGINAL-URL:https://biologenherdla.no
X-WR-CALDESC:Arrangement for Biologen Herdla
REFRESH-INTERVAL;VALUE=DURATION:PT1H
X-Robots-Tag:noindex
X-PUBLISHED-TTL:PT1H
BEGIN:VTIMEZONE
TZID:UTC
BEGIN:STANDARD
TZOFFSETFROM:+0000
TZOFFSETTO:+0000
TZNAME:UTC
DTSTART:20250101T000000
END:STANDARD
END:VTIMEZONE
BEGIN:VEVENT
DTSTART;VALUE=DATE:20260801
DTEND;VALUE=DATE:20260901
DTSTAMP:20260421T095549
CREATED:20260406T134649Z
LAST-MODIFIED:20260406T134719Z
UID:1141-1785542400-1788220799@biologenherdla.no
SUMMARY:Avslutt sommeren på den rette måten
DESCRIPTION:Avslutt sommeren på den rette måten\nI august inviterer vi til nok et utendørs arrangement på Biologen Herdla. \nMusikk\, mat og kystluft – denne gangen med sommeren i bakspeilet. Er det noe bedre måte å runde av de lyse månedene på enn med godt selskap\, god mat og levende musikk rett ved havet? \nVi holder kortene tett til brystet litt til\, men vi kan love at det er verdt ventetiden. \nFølg med på nettsiden og sosiale medier – det kommer mer snart.
URL:https://biologenherdla.no/arrangement/august/
LOCATION:Biologen Herdla\, Herdlevegen 517\, Herdla\, Vestland\, 5315\, Norway
CATEGORIES:roddag,vis på forside
ATTACH;FMTTYPE=image/jpeg:https://biologenherdla.no/wp-content/uploads/2024/09/DJI_20240621111138_0033_D_JOMLI.jpg
ORGANIZER;CN="Biologen Herdla":MAILTO:post@biologenherdla.no
END:VEVENT
END:VCALENDAR