BEGIN:VCALENDAR
VERSION:2.0
PRODID:-//Biologen Herdla - ECPv6.15.18//NONSGML v1.0//EN
CALSCALE:GREGORIAN
METHOD:PUBLISH
X-WR-CALNAME:Biologen Herdla
X-ORIGINAL-URL:https://biologenherdla.no
X-WR-CALDESC:Arrangement for Biologen Herdla
REFRESH-INTERVAL;VALUE=DURATION:PT1H
X-Robots-Tag:noindex
X-PUBLISHED-TTL:PT1H
BEGIN:VTIMEZONE
TZID:UTC
BEGIN:STANDARD
TZOFFSETFROM:+0000
TZOFFSETTO:+0000
TZNAME:UTC
DTSTART:20250101T000000
END:STANDARD
END:VTIMEZONE
BEGIN:VEVENT
DTSTART;VALUE=DATE:20260601
DTEND;VALUE=DATE:20260701
DTSTAMP:20260419T173648
CREATED:20260406T134207Z
LAST-MODIFIED:20260406T134848Z
UID:1140-1780272000-1782863999@biologenherdla.no
SUMMARY:En sommerkveld du ikke vil gå glipp av
DESCRIPTION:Kristi Himmelfartsdag\nNoe stort er på vei til Biologen Herdla. \nI juni åpner vi baksiden for et utendørs arrangement med musikk\, mat og god stemning – rett ved havet. \nMer enn dette kan vi ikke røpe helt ennå – men vi anbefaler deg å følge med på nettsiden og sosiale medier våre.
URL:https://biologenherdla.no/arrangement/juni/
LOCATION:Biologen Herdla\, Herdlevegen 517\, Herdla\, Vestland\, 5315\, Norway
CATEGORIES:roddag,vis på forside
ATTACH;FMTTYPE=image/jpeg:https://biologenherdla.no/wp-content/uploads/2025/03/5-QE8A7681-scaled.jpg
ORGANIZER;CN="Biologen Herdla":MAILTO:post@biologenherdla.no
END:VEVENT
END:VCALENDAR