BEGIN:VCALENDAR
VERSION:2.0
PRODID:-//Biologen Herdla - ECPv6.15.18//NONSGML v1.0//EN
CALSCALE:GREGORIAN
METHOD:PUBLISH
X-ORIGINAL-URL:https://biologenherdla.no
X-WR-CALDESC:Arrangement for Biologen Herdla
REFRESH-INTERVAL;VALUE=DURATION:PT1H
X-Robots-Tag:noindex
X-PUBLISHED-TTL:PT1H
BEGIN:VTIMEZONE
TZID:UTC
BEGIN:STANDARD
TZOFFSETFROM:+0000
TZOFFSETTO:+0000
TZNAME:UTC
DTSTART:20250101T000000
END:STANDARD
END:VTIMEZONE
BEGIN:VEVENT
DTSTART;VALUE=DATE:20260501
DTEND;VALUE=DATE:20260504
DTSTAMP:20260419T160110
CREATED:20260414T081911Z
LAST-MODIFIED:20260414T082352Z
UID:1143-1777593600-1777852799@biologenherdla.no
SUMMARY:Langweekend hos Biologen Herdla
DESCRIPTION:Den langhelgen du fortjener – rett ved havet\n1 mai er arbeidernes dag – og en ypperlig grunn til å forlenge helgen litt ekstra. \nHvorfor ikke bruke langhelgen på Herdla? Frisk kystluft\, god mat og havet rett utenfor døren. Det finnes verre måter å markere fridagen på. \nVi har flere pakker som passer perfekt for en liten flukt fra hverdagen – enten du vil ha ro for deg selv\, en romantisk helg for to\, eller en tur med gjengen. Kommer dere flere\, kan Brinkmann-huset være svaret: et eget hus like ved hotellet med plass til en liten gjeng\, stue\, kjøkken og panoramautsikt mot sjøen. \nSe våre pakker på biologenherdla.no/pakker/ og sikre deg helgen før noen andre gjør det. 🌊
URL:https://biologenherdla.no/arrangement/arbeidernes-dag-2/
LOCATION:Biologen Herdla\, Herdlevegen 517\, Herdla\, Vestland\, 5315\, Norway
CATEGORIES:roddag,vis på forside
ATTACH;FMTTYPE=image/png:https://biologenherdla.no/wp-content/uploads/2026/01/1.png
ORGANIZER;CN="Biologen Herdla":MAILTO:post@biologenherdla.no
END:VEVENT
BEGIN:VEVENT
DTSTART;VALUE=DATE:20260517
DTEND;VALUE=DATE:20260518
DTSTAMP:20260419T160110
CREATED:20250228T120630Z
LAST-MODIFIED:20260414T082253Z
UID:901-1778976000-1779062399@biologenherdla.no
SUMMARY:17. mai – Feir med oss!
DESCRIPTION:17. mai – Feir med oss\nBli med og feire Norges nasjonaldag hos oss på Biologen. Vi arrangerer en dag fylt med gode tradisjoner\, festligheter og hyggelig samvær. Mer informasjon kommer snart.Kontakt: 940 00 968 | post@biologenherdla.no
URL:https://biologenherdla.no/arrangement/17mai/
LOCATION:Biologen Herdla\, Herdlevegen 517\, Herdla\, Vestland\, 5315\, Norway
CATEGORIES:roddag,vis på forside
ATTACH;FMTTYPE=image/jpeg:https://biologenherdla.no/wp-content/uploads/2024/07/c9ca580d822e5fb02b476d141df76139.jpg
ORGANIZER;CN="Biologen Herdla":MAILTO:post@biologenherdla.no
END:VEVENT
END:VCALENDAR